BEGIN:VCALENDAR
PRODID:-//Det Danske Spejderkorps//NONSGML Gruppeweb//EN
VERSION:2.0
CALSCALE:GREGORIAN
X-PUBLISHED-TTL:PT1H
X-WR-CALNAME:Aabenraa Gruppe
METHOD:PUBLISH
BEGIN:VEVENT
UID:gruppeweb.dk:5216:event:191
DTSTAMP:20260423T145607Z
LAST-MODIFIED:20250411T063834Z
SUMMARY:Juniordivisionsturnering
DESCRIPTION:Kære Juniorspejder\n\nEr du klar til at tage på eventyr som P
 ippi\, Ronja og Brødrene Løvehjerte?  \nVi inviterer dig til en\nuforgle
 mmelig weekend fyldt med sjov\, udfordringer og fællesskab – helt i  \n
 ånden fra Astrid\nLindgrens fantastiske fortællinger!\n\nHvor? : Troldh
 øj\, Troldhøjvej 1\, 6430 Nordborg\n\nHvornår? Start: fredag d. 25. apr
 il kl. 18:00 Slut: søndag d. 27. april kl.  \n11:30\n\nFor at få den bed
 ste start på eventyret\, skal du have spist aftensmad  \nhjemmefra\, så 
 du er fuld af energi til at kaste dig ud i oplevelserne. Vi  \ntilbringer 
 hele weekenden under åben himmel – vi skal sove ude som Ronja  \nRøver
 datter i Mattisborgen\, tage på opdagelse i skoven ligesom Emil fra  \nL
 ønneberg og måske finde vores egen lille version af Nangijala.\n\nDerfor
  er det vigtigt\, at du pakker fornuftigt efter vejret. Husk at  \nmedbrin
 ge:\n\n✔ Sovepose & liggeunderlag (så du kan sove trygt i teltet som en
  rigtig  \neventyrer) ✔ Spisegrej & toilettaske ✔ Regntøj & varm påk
 lædning (så  \ndu er klar til både skovture og uventede røvertogter) 
 ✔ Fuld  \nspejderuniform ✔ Ekstra tøj & en lille rygsæk med plads ti
 l vandflaske og  \nregntøj til lørdagens dagsløb\n\nPris: 175 kr. Tilme
 lding & betaling senest fredag d. 11. april til din  \nspejderleder.\n\nTa
 g med på et eventyr\, hvor vi leger\, udforsker og skaber minder\, der ku
 nne  \nvære taget direkte ud af Astrid Lindgrens Verden!\n\nVi glæder os
  til at se dig i Troldhøj!\n\n
URL:https://aabenraagruppe.dk/begivenhed/juniordivisionsturnering
DTSTART:20250425T150000Z
DTEND:20250427T110000Z
LOCATION:Aabenraa Gruppe\, Lindehave 7\, 6200 Aabenraa
END:VEVENT
BEGIN:VEVENT
UID:gruppeweb.dk:5216:event:193
DTSTAMP:20260423T145607Z
LAST-MODIFIED:20250509T063722Z
SUMMARY:Spejderdag
DESCRIPTION:Spejderdag er en dag som er åben for alle uanset om man allere
 de er spejder  \neller ej - så tag en ven der måske ikke er spejder unde
 r armen og kom og  \nvær med til en super hyggelig eftermiddag fuld af sp
 ejderi. 🔥\n\n\nVi mødes på *Sønderstrand i Aabenraa fra kl. 13-16*\,
  hvor vi skal lære og  \nhave det sjovt med at bygge ly\, finde vej\, sni
 tte\, lave bål og sejle i kano.\n\n\nAlle aldersgrupper er velkomne! og m
 an må gerne tage sine forældre eller  \nandre yndlingsvoksne med.\n\n\nH
 vis du kender en der gerne vil med men som endnu ikke er spejder\, kan  \n
 vedkommende melde sig til her 👉  \nhttps://aabenraagruppe.dk/kampagne/
 spejderdag\n\n
URL:https://aabenraagruppe.dk/begivenhed/spejderdag
DTSTART:20250511T110000Z
DTEND:20250511T140000Z
LOCATION:Aabenraa Gruppe\, Lindehave 7\, 6200 Aabenraa
END:VEVENT
BEGIN:VEVENT
UID:gruppeweb.dk:5216:event:194
DTSTAMP:20260423T145607Z
LAST-MODIFIED:20250520T072500Z
SUMMARY:Betaling kolle
DESCRIPTION:Hej \n\nJeg har her oprettet betaling for kolle ugen. \n\nBel
 øbet dækker mad og kolle mærke til uniformen. \n\n
URL:https://aabenraagruppe.dk/begivenhed/betaling-kolle
DTSTART:20250519T192800Z
DTEND:20250523T212800Z
LOCATION:Aabenraa Gruppe\, Lindehave 7\, 6200 Aabenraa
END:VEVENT
BEGIN:VEVENT
UID:gruppeweb.dk:5216:event:195
DTSTAMP:20260423T145607Z
LAST-MODIFIED:20260214T011303Z
SUMMARY:Kanotur for juniorer
DESCRIPTION:Vi sejler fra Øster Lindet ned ad Gram Å. Passerer Gram og ca
 mperer vest  \nfor byen. Næste dag sejler vi til Nybøl Gård og stopper 
 der hvor vi kan  \nhentes kl. 11\n\nse folderen  \n: https://www.toender.
 dk/media/2gri3yq4/sejle-ned-ad-aaen-i-soenderjylland.pdf \n\n\n
URL:https://aabenraagruppe.dk/begivenhed/kanotur-juniorer
DTSTART:20250607T080000Z
DTEND:20250608T090000Z
LOCATION:Aabenraa Gruppe\, Lindehave 7\, 6200 Aabenraa
END:VEVENT
BEGIN:VEVENT
UID:gruppeweb.dk:5216:event:192
DTSTAMP:20260423T145607Z
LAST-MODIFIED:20250418T074124Z
SUMMARY:Kulsø '25
DESCRIPTION:Sommerlejr er årets bedste tur hvor minder skabes\, i raftetå
 rnet på  \nteltpladsen\, på natløbet i den mørke skov og ved lejrbåle
 ts gløder i den  \nsene sommeraften. \n\n\nI år tager vi til Kulsø Spe
 jdercenter på en 5 dage og 4 nætter lang\,  \nintens spejderlejr med fok
 us på nye spejderoplevelser\, nye spejderkammerater  \nog lejrhygge.\nCen
 teret drives af erfarne voksne spejdere “Nagler” og tilbyder en række
   \naktiviteter man kan vælge imellem som tilmeldt spejder. Alle aktivite
 ter  \nledes af en nagle\, i samarbejde med gruppens ledere.\nDer er mulig
 hed for at kaste sig ud i en række forskellige søaktiviteter  \npå Kuls
 ø og Nedersø\, der grænser direkte op til lejren. Smedjen giver  \nmuli
 ghed for at gnisterne kan flyve jer om ørerne\, og på naturturen kan i  
 \nfinde kødædende planter. I det kreative værksted er der mulighed for 
 at  \nlade inspirationen flyve frit. Og fra trætoppene kan i få det fuld
 e  \noverblik over stedet.\n\nDer er mange aktiviteter at vælge imellem: 
 fra -tømmerflåde over  \n“masterchef”\, til natur-ture og hikes\, na
 tløb og pionering med og uden  \nreb\, geocaching\, fotoløb \, smedjearb
 ejder\, træklatring\, natløb\,  \nkreativ-workshops med batikfarvning af
  tøj\, læder-arbejde\,  \nsmykkefremstilling\, perlebrænding og meget a
 ndet. \n\nVi er afsted fra 6. -10.juli (søndag til torsdag)\n\nKulsø Sp
 ejderCenter\,\n\nKulsøvej 19\, Vesterlund\,\n\n7323 Give\n\nTilmelding p
 å aabenraagruppe.dk så snart som muligt! 🤠 \n\nSpejderhilsen Rasmus
 \, Søren og Lucas\n\nJunior [1] aktiviteter kan ses på linket (ellers fi
 nd Kulsø´s hjemmeside)\n\n\n[1] https://kulso.bookhus.dk/Spejderkurserle
 jre/Aktiviteterundersommerlejr/Junioraktiviteter.aspx\n
URL:https://aabenraagruppe.dk/begivenhed/kulsoe-25
DTSTART:20250706T063000Z
DTEND:20250710T150000Z
LOCATION:Aabenraa Gruppe\, Lindehave 7\, 6200 Aabenraa
END:VEVENT
BEGIN:VEVENT
UID:gruppeweb.dk:5216:event:196
DTSTAMP:20260423T145607Z
LAST-MODIFIED:20250816T095805Z
SUMMARY:Oprykningstur 2025
DESCRIPTION:Det nye spejderår 2025-26 starter med en oprykningstur for all
 e spejdere i  \nAabenraa Gruppe.\n\nHer rykker vi de ældste spejdere i hv
 er gren op i nye grupper\, som de skal  \nhøre til i det kommende spejder
 år.\n\n\nI år skal vi som noget nyt sejle i kano ud til Aabæk 🛶  *V
 i mødes  \nderfor ved roklubben på Strandvej 5 kl. 10.*\n\nNår vi komme
 r frem skal vi foretage den traditionsrige oprykning og lave en  \nmasse a
 ndet sjovt og spændende spejderi.\n\n\n*Husk madpakke til frokosten! 🥪
 *\n\n\nDem der skal rykke op fra *familiespejd mødes ved Aabækhytten kl.
  12:30*\n\n \n\n*Forældre vi vil rigtig gerne have jeres hjælp til:*\n\
 n- Kager! Vi vil som altid gerne have et par kager med på turen.\n\n- Hus
 k at hente dit barn ved Aabækhytten kl. 16 😊\n\n\nVi glæder os til et
  hyggelig spejderarrangement!\n\nHilsen spejderlederne\n\n⚜️\n\n
URL:https://aabenraagruppe.dk/begivenhed/oprykningstur-2025
DTSTART:20250817T080000Z
DTEND:20250817T140000Z
LOCATION:Aabenraa Gruppe\, Lindehave 7\, 6200 Aabenraa
END:VEVENT
BEGIN:VEVENT
UID:gruppeweb.dk:5216:event:197
DTSTAMP:20260423T145607Z
LAST-MODIFIED:20260214T011259Z
SUMMARY:Dybbøl Division fællestur 2025
DESCRIPTION:\n\nVi mødes på Troldhøj til en weekend fyldt med gode\nspej
 deraktiviteter og samvær med de andre spejderkammerater.\n\n\n\n \n\nHvo
 r og hvornår?\nTroldhøj\, Troldhøjvej 1\, 6430\nNordborg.\n\n\n\nFredag
  d. 12. – søndag den 14. september 2025.\n\n\n\nVi mødes ved spejderhu
 set på\nLindehave 7\, fredag kl. 17 og kører sammen til Troldhøj.\n\n\n
 \nProgrammet slutter søndag kl. 12:00 på Troldhøj.\n\n\n\n \n\n \n\n*
 Husk:*\n\n\n\nEn madpakke til aftensmaden fredag.\n\n\n\nSovegrej til at s
 ove i telt\n\n\n\nTøj der passer til vejret**\n\n\n\n* *\n\n*Programmet:
 \n*Fredag aften er vi delt op i forskellige grene til aktiviteter\ntil de 
 forskellige aldersgrupper.\n\n\n\nLørdag har vi et stort stjerneløb\, fo
 r alle spejdere sammen\, hvor vi skal  \nudforske forskellige aspekter af 
 spejderlivet\, og så slutter vi dagen med et  \nstort lejrbål og fælles
  hygge.\n\n\n\nSøndag formiddag er der igen aktiviteter opdelt i de forsk
 ellige grene.\n\n\n\n \n\n \n\n \n\nVi glæder os til en hyggelig spejd
 erweekend!\n\n\n\n\nHilsen Spejderlederne\n\n\n\n
URL:https://aabenraagruppe.dk/begivenhed/dybboel-division-faellestur-2025
DTSTART:20250912T150000Z
DTEND:20250914T100000Z
LOCATION:Troldhøj\, Troldhøjvej 1\, 6430 Nordborg
END:VEVENT
BEGIN:VEVENT
UID:gruppeweb.dk:5216:event:198
DTSTAMP:20260423T145607Z
LAST-MODIFIED:20260214T011256Z
SUMMARY:Mikro - Dybbøl Division fællestur 2025
DESCRIPTION:\n\nVi mødes på Troldhøj til en weekend fyldt med gode\nspej
 deraktiviteter og samvær med de andre spejderkammerater.\n\n\n\n \n\nHvo
 r og hvornår?\nTroldhøj\, Troldhøjvej 1\, 6430\nNordborg.\n\n\n\nLørda
 g d. 13. september kl. 9 - kom gerne lidt før så du er klar til  \nprogr
 amstart kl. 9.\n\n\n\nProgrammet slutter søndag kl. 12:00 på Troldhøj.\
 n\n\n\n \n\n \n\n*Husk:*\n\n\n\nSovegrej til at sove i telt\n\n\n\nTøj 
 der passer til vejret**\n\n\n\n* *\n\n*Programmet:\n*\n\n\n\nLørdag har 
 vi et stort stjerneløb\, for alle spejdere sammen\, hvor vi skal  \nudfor
 ske forskellige aspekter af spejderlivet\, og så slutter vi dagen med et 
  \nstort lejrbål og fælles hygge.\n\n\n\nSøndag formiddag er der aktivi
 teter opdelt i de forskellige grene.\n\n\n\n \n\n \n\n \n\nVi glæder o
 s til en hyggelig spejderweekend!\n\n\n\n\nHilsen Ellen\, Lukas og de andr
 e spejderledere\n\n\n\n
URL:https://aabenraagruppe.dk/begivenhed/mikro-dybboel-division-faellestur-
 2025
DTSTART:20250913T070000Z
DTEND:20250914T100000Z
LOCATION:Troldhøj\, Troldhøjvej 1\, 6430 Nordborg
END:VEVENT
BEGIN:VEVENT
UID:gruppeweb.dk:5216:event:199
DTSTAMP:20260423T145607Z
LAST-MODIFIED:20250922T220923Z
SUMMARY:Tropstur
DESCRIPTION:\n
URL:https://aabenraagruppe.dk/begivenhed/tropstur-1
DTSTART:20250926T150000Z
DTEND:20250928T100000Z
LOCATION:Aabenraa Gruppe\, Lindehave 7\, 6200 Aabenraa
END:VEVENT
BEGIN:VEVENT
UID:gruppeweb.dk:5216:event:202
DTSTAMP:20260423T145607Z
LAST-MODIFIED:20251016T120117Z
SUMMARY:Betaling PLAN 2025
DESCRIPTION:Arrangement udelukkende til betaling af plankursus. Selve kurse
 t tilmeldes  \nvia dds.dk/plan\, i tilmelding skal i notere at gruppen bet
 aler. \n\n
URL:https://aabenraagruppe.dk/begivenhed/betaling-plan-2025
DTSTART:20251012T092600Z
DTEND:20251018T092600Z
LOCATION:Aabenraa Gruppe\, Lindehave 7\, 6200 Aabenraa
END:VEVENT
BEGIN:VEVENT
UID:gruppeweb.dk:5216:event:200
DTSTAMP:20260423T145607Z
LAST-MODIFIED:20251026T175542Z
SUMMARY:Travetur 2025
DESCRIPTION:Hej Spejder\n\nSnør støvlerne\, tag din ven\, mor\, far\, far
 far eller en anden dejlig person  \nmed\, og kom med på årets måske flo
 tteste travetur søndag d. 26. Oktober.  \nVi starter forskudt\, så vi en
 der med at gå de sidste km i samlet flok. Vi  \nspiser madpakker\, hygger
  og spiser æbleskiver undervejs.\n\nDer er som udgangspunkt ingen ledere 
 med på ruten.\n\n\n30 km starter kl 08:00 fra spejderhuset (trop).\n\n20 
 km starter kl 11:00 fra spejderhuset (junior).\n\n10 km starter kl 14:00 f
 ra spejderhuset (mini).\n\n5 km starter kl 15:00 fra spejderhuset (mikro).
 \n\nVi synger dagen af ca 18:30\, efter en varm suppe og uddeling af mærk
 er.\n\n\nPakkeliste:\n\nFlere par tørre sokker\, de gode vandrestøvler\,
  tøj efter vejret\, en dejlig  \nstor madpakke med dine yndlings snacks.\
 n\nPris 35 kr / person.\n\nTilmelding på medlemsservice senest torsdag d.
  23. Oktober.\n\nVel mødt Aabenraa Gruppe.\n\n
URL:https://aabenraagruppe.dk/begivenhed/travetur-2025
DTSTART:20251026T070000Z
DTEND:20251123T173000Z
LOCATION:Aabenraa Gruppe\, Lindehave 7\, 6200 Aabenraa
END:VEVENT
BEGIN:VEVENT
UID:gruppeweb.dk:5216:event:203
DTSTAMP:20260423T145607Z
LAST-MODIFIED:20251102T220556Z
SUMMARY:Smuglerløb
DESCRIPTION:\nRøverier\, smugleri og handel har altid været en del af de 
 nordiske  \ngrænselande. Denne aften er spejderne smuglere\, der handler 
 varer mellem  \nDanmark\, Norge og Sverige – uden at blive taget af told
 erne!  \n\nVi mødes ved Skateparken på Høje Kolstrup skole i Aabenraa
 . Nyløkke 2\,  \n6200 Aabenraa\n\nkl. 18.00 og er færdige ca. kl. 20.00.
  \n\nHav spist lidt mad hjemmefra så der er kræfter til at klare straba
 dserne!\n\nHusk varmt tøj - vi skal være ude hele aftenen. \n\nSvar ger
 ne til din leder om du deltager senest lørdag d. 1.november \n\nEr vi he
 ldige at et par forældre vil bage kage til os\, som vi kan nyde efter  \n
 løbet? Så giv besked til spejderlederen for dit barns gruppe (max 1 kage
  pr  \ngruppe)\n\n  \n\nVi glæder os til at se jer til en sjov aften i 
 skoven! \n\n\nSpejderhilsen Juniorerne i Aabenraa\n\n
URL:https://aabenraagruppe.dk/begivenhed/smuglerloeb-1
DTSTART:20251105T170000Z
DTEND:20251105T190000Z
LOCATION:Aabenraa Gruppe\, Lindehave 7\, 6200 Aabenraa
END:VEVENT
BEGIN:VEVENT
UID:gruppeweb.dk:5216:event:201
DTSTAMP:20260423T145607Z
LAST-MODIFIED:20251012T151321Z
SUMMARY:November stjernetur - Mikrospejderne
DESCRIPTION:Kære alle mikrospejdere\,\n\n\nVi tager på Stjernekigger-over
 natningstur\, så vi kan blive endnu bedre til  \nat være ude i mørket\,
  og så vi kan hygge os med hinanden. \n\nVi starter med at spise at spis
 e vores medbragte madpakker sammen\, så husk  \nat tage frokost med. \n\
 n\nI\n  løbet af lørdagen skal vi lave nogle forskellige spejder-aktivit
 eter.\nOm aftenen laver vi mad i hytten\, hvor vi også overnatter. \n\n\
 nOvernatningsturen slutter kl. 11 om søndagen\, hvor jeres forældre kan 
 hente  \njer. \n\n\nVi\n  glæder os til at have en sjov spejdertur med j
 er\, hvor vi kan bruge de\nspejder-skills\, som I allerede kan\, og måske
  øve os på nogle nye.\n\n\nNår I skal pakke til turen\, kan I kigge i j
 eres mikrospejder-bog\, hvor der  \ner en god pakkeliste. Husk at sige til
  jeres forældre\, at I selv vil være  \nmed til at pakke tasken\, så I 
 ved\, hvor jeres ting er. Vi skal sove indenfor  \ni hytten\, men I skal s
 elv have et liggeunderlag med. \n\n\nHvis\n  du sidder som forældre og h
 ar tid og lyst til at hjælpe til på lejren\ner du meget velkommen til at
  tage med som “tante”. Vi kunne godt bruge\nen hånd med praktiske opg
 aver som madlavning og transport\, samt\nsmåopgaver/ekstra hænder i løb
 et af lejren.\n\nHvis det er noget for dig er du velkommen til at skrive t
 il os eller skrive  \ndet i tilmeldingen til lejren. \n\nTilmeldingen luk
 ker d. 19-11-2025.\n\n\nSpejderhilsner fra Lukas og Ellen \n\n\n
URL:https://aabenraagruppe.dk/begivenhed/november-stjernetur-mikrospejderne
DTSTART:20251122T110000Z
DTEND:20251123T100000Z
LOCATION:Gråsten Spejderne\, Konkel 6A\, 6300 Gråsten
END:VEVENT
BEGIN:VEVENT
UID:gruppeweb.dk:5216:event:205
DTSTAMP:20260423T145607Z
LAST-MODIFIED:20251129T173359Z
SUMMARY:Juleafslutning 2025
DESCRIPTION:Tag hele familien med til en hyggelig juleafslutning\, hvor vi 
 tænder lys i  \nmørket og julehygger.\n\n\nVi mødes ved Aabækhytten kl
 . 17-19 til juleløb (planlagt af vores  \ntropsspejdere)\, risengrød og 
 masser af lys i mørket.  \n\n\nVi glæder os til at se jer \n\n\nHusk 
 tøj efter vejret og nissehue\, lyskæde eller hvad der ellers kan gøre  
 \nuniformen lidt julet \n\n
URL:https://aabenraagruppe.dk/begivenhed/juleafslutning-2025
DTSTART:20251202T160000Z
DTEND:20251202T180000Z
LOCATION:Aabenraa Gruppe\, Lindehave 7\, 6200 Aabenraa
END:VEVENT
BEGIN:VEVENT
UID:gruppeweb.dk:5216:event:204
DTSTAMP:20260423T145607Z
LAST-MODIFIED:20251216T210306Z
SUMMARY:Junior og trop hike
DESCRIPTION:Vi skal på vandring og slutte med overnatning ved hytten i vor
 es  \nprimishelter!\n\nEn "stroppetur" med en let oppakning i rygsækken..
 en test af udholdenheden  \nog humøret når der kommer lidt pres på !\n\
 nGrobund for dybere kammeratskab!\n\nOverlevende juniorer vil blive beløn
 net med "surivivor" mærket da det er  \nled i deres mærkeforløb :-)\n\n
 Vi begynder ude på Løjt Land og skal snige os igennem skove og markveje\
 ,  \nfor at nå tilbage til hytten og shelteret\, uden at blive taget til 
 fange!\n\nUndervejs skal vi lære nye "skills"\, og prøve og bruge de gam
 le. \n\nVi rykker turen til januar\, så man kan både få vinter bivy (g
 ælder også  \ntrop) + junior-survivor-mærket på denne tur.\n\n Hvis t
 roppen har problemer med at melde til så send blot sms til Søren  \npå 
 22815581 :-)\n\n
URL:https://aabenraagruppe.dk/begivenhed/junior-og-trop-hike
DTSTART:20260110T090000Z
DTEND:20260111T090000Z
LOCATION:Aabenraa Gruppe\, Lindehave 7\, 6200 Aabenraa
END:VEVENT
BEGIN:VEVENT
UID:gruppeweb.dk:5216:event:208
DTSTAMP:20260423T145607Z
LAST-MODIFIED:20260202T101622Z
SUMMARY:Flaghejsning
DESCRIPTION:Meld dig gerne til at hjælpe spejderne med at tjene penge. Der
  skal hejses  \n12 flag ved de steder vi har. Kystvejen\, Rugkobbel\, Sand
 ved og Tøndervej.\n\nEn anden har meldt sig til at tage flagene ned.\n\nR
 uten tager ca. 1\,5 time.\n\n\nSe beskrivelsen (pdf) under *Filer* her på
  siden.\n\n
URL:https://aabenraagruppe.dk/begivenhed/flaghejsning-0
DTSTART:20260205T070000Z
DTEND:20260205T090000Z
LOCATION:Aabenraa Gruppe\, Lindehave 7\, 6200 Aabenraa
END:VEVENT
BEGIN:VEVENT
UID:gruppeweb.dk:5216:event:211
DTSTAMP:20260423T145607Z
LAST-MODIFIED:20260203T064655Z
SUMMARY:Nedtagning af flag
DESCRIPTION:Meld dig gerne til at hjælpe spejderne med at tjene penge. Der
  skal tages 12  \nflag ned ved de steder vi har. Kystvejen\, Rugkobbel\, S
 andved og Tøndervej.\n\nRuten tager ca 1\,5 time.\n\n\nBeskrivelse er på
  vores hjemmeside ellers spørg endelig.\n\n
URL:https://aabenraagruppe.dk/begivenhed/nedtagning-af-flag-0
DTSTART:20260205T144500Z
DTEND:20260205T160000Z
LOCATION:Aabenraa Gruppe\, Lindehave 7\, 6200 Aabenraa
END:VEVENT
BEGIN:VEVENT
UID:gruppeweb.dk:5216:event:209
DTSTAMP:20260423T145607Z
LAST-MODIFIED:20260203T070926Z
SUMMARY:Flaghejsning.
DESCRIPTION:Meld dig gerne til at hjælpe spejderne med at tjene penge. Der
  skal hejses 8  \nflag ved de steder vi har.  Rugkobbel\, Sandved/Farvers
 møllevej og  \nTøndervej.\n\nI flagguiden\, som du finder her på siden 
 er det rute 3 Sandved 7\, rute 4  \nTøndervej 155 og rute 5 Rugkobbel 16.
 \n\nRuten tager ca 1 time.\n\n\nBeskrivelse er på vores hjemmeside ellers
  spørg endelig.\n\n
URL:https://aabenraagruppe.dk/begivenhed/flaghejsning
DTSTART:20260206T070000Z
DTEND:20260206T080000Z
LOCATION:Aabenraa Gruppe\, Lindehave 7\, 6200 Aabenraa
END:VEVENT
BEGIN:VEVENT
UID:gruppeweb.dk:5216:event:210
DTSTAMP:20260423T145607Z
LAST-MODIFIED:20260129T164949Z
SUMMARY:Nedtagning af flag
DESCRIPTION:Meld dig gerne til at hjælpe spejderne med at tjene penge. Der
  skal tages 8  \nflag ned ved de steder vi har. Rugkobbel\, Sandved/Farver
 smøllevej og  \nTøndervej.\n\nRuten tager ca 1  time.\n\n\nBeskrivelse 
 er på vores hjemmeside ellers spørg endelig.\n\n
URL:https://aabenraagruppe.dk/begivenhed/nedtagning-af-flag
DTSTART:20260206T150000Z
DTEND:20260206T160000Z
LOCATION:Aabenraa Gruppe\, Lindehave 7\, 6200 Aabenraa
END:VEVENT
BEGIN:VEVENT
UID:gruppeweb.dk:5216:event:207
DTSTAMP:20260423T145607Z
LAST-MODIFIED:20260128T200204Z
SUMMARY:Grupperådsmøde
DESCRIPTION:Tirsdag d. 24. februar kl. 17 i spejderhytten på Lindehave 7\n
 afholdes der grupperådsmøde (generalforsmaling) for alle medlemmer og de
 res\npårørende.\n\n\n\nMens de voksne sidder inde i varmen og fordyber s
 ig i gruppens\ngøren og laden\, er alle spejderne i gang med at forberede
  en lækker  \naftensmad udenfor\n🔥\n– som vi efterfølgende nyder sa
 mmen.\n\n\n\n(Alle spejdermøder ligger derfor tirsdag aften denne uge.)\n
 \n\n\n\n \n\n\nDa der laves mad\, er *tilmelding* nødvendig – søskend
 e er\nvelkomne til at deltage.\n\n\n\n\n \n\n\nFor alle nuværende *foræ
 ldrerepræsentanter* (som har\nsiddet i mange år) i bestyrelsen gælder\,
  at deres børn ikke længere går  \ntil\nspejder og de derfor også natu
 rligt vil afslutte deres indsats. Der er  \nderfor\nbrug for at nye kræft
 er stiller op. Det drejer sig om 4 møder om året\, så\nopgaven er til a
 t overskue.\n\n\n\nDa der er lagt op til en rokade på kasserer/formandspo
 sten\, har\nvi brug for at en ny træder til som *kasserer*. Der god hjæl
 p til denne\nrolle\, så lad endelig ikke manglende erfaring holde dig til
 bage.\n\n\n\n\nHvis du tænker at en af disse roller kunne være noget for
 \ndig\, eller har spørgsmål til arbejdet\, så er du meget velkommen til
  at  \ntage fat\ni Stine (tlf. 61669209).\n\n\n\n
URL:https://aabenraagruppe.dk/begivenhed/grupperaadsmoede
DTSTART:20260224T160000Z
DTEND:20260224T180000Z
LOCATION:Aabenraa Gruppe\, Lindehave 7\, 6200 Aabenraa
END:VEVENT
BEGIN:VEVENT
UID:gruppeweb.dk:5216:event:212
DTSTAMP:20260423T145607Z
LAST-MODIFIED:20260319T192311Z
SUMMARY:Fælles tropstur med divisionen
DESCRIPTION:-------- Transport\n          ---------------------------------
 -----------------------------------\n\nVi tager med kollektiv transport ti
 l Troldhøj. Husk at bussen ikke venter\,  \nså kom i god tid.\n\n\n\nDu 
 kan stå på bussen i Hørup\, Sønderborg eller Augustenborg. Alle står 
  \nsamlet af ved Troldhøj.\n\n\n\nNår vi skal hjem kan man stå af i Aug
 ustenborg eller Sønderborg.\n\n\n\n-------- Medbring\n          ---------
 -----------------------------------------------------------\n\n·    
    Madpakke til fredag aften\n\n\n\n·       Weekendoppakning ti
 l at overnatte udendørs\n\n\n\n·       Buskort (Hvis du har et)\n
 \n\n\n·       Tøj efter vejret. Husk at det godt kan blive kolt o
 m aftenen\n\n\n\n·       Drikkedunk og lille turtaske\n\n\n\n\n·
        Husk at pakke så du nemt kan bære dine ting  til og fra 
  \nbussen\n\n\n\n \n\n\n\n
URL:https://aabenraagruppe.dk/begivenhed/faelles-tropstur-med-divisionen
DTSTART:20260410T143000Z
DTEND:20260412T103000Z
LOCATION:Høruphav (Søndre Landevej v Færgegang)
END:VEVENT
BEGIN:VEVENT
UID:gruppeweb.dk:5216:event:213
DTSTAMP:20260423T145607Z
LAST-MODIFIED:20260323T210602Z
SUMMARY:Juniordivisionsturnering
DESCRIPTION:-------- Junior Divisionsturnering 2026 -----------------------
 ---------------\n\n.... Smuglerne på Gendarmstien\n\nLangs Gendarmstien e
 r situationen alvorlig.\n\nSmuglerne er blevet flere. De bevæger sig i m
 ørket. De gemmer varer i  \nskoven.\nOg ingen ved\, hvem man kan stole p
 å.\n\nGendarmerne er pressede – og de har brug for hjælp.\n\nDerfor in
 dkaldes alle junior-spejdere til patruljetjeneste i Broager!\n\nI løbet a
 f weekenden skal patruljerne:\n\n * Kæmpe om at blive den bedste patrulje
 \n   \n * Gå patrulje langs Gendarmstien\n   \n * Løse opgaver og samle 
 efterretninger\n   \n * Afsløre smuglernes plan\n   \n * Finde det skjult
 e smuglergods\n   \n\nTør I gå patrulje i smuglernes område?\nKan I sam
 le nok beviser til at afsløre dem?\n\n.... Praktisk information\n\n📍 S
 ted: Broager spejderne Møllegade 120\, 6310 Broager\n[1] 📅 Dato: 24.
 –26. april 2026\n🕕 Start: Fredag kl. 18.00\n🏁 Slut: Søndag kl. 11
 .30\n\nSpejderne skal medbringe:\n\n * En fuld mave - der er ikke aftensma
 d fredag. \n   \n * Udstyr til overnatning i telt\n   \n * Uniform og tø
 rklæde\n   \n * Godt fodtøj til vandring\n   \n * Spisegrej og drikkedun
 k\n   \n * Lommelygte\n   \n\n\nVi ses på Gendarmstien!\n\n\n[1] https://
 www.google.com/maps/place//data=!4m2!3m1!1s0x47b3478fee7425bd:0x70eaaffb08
 ad67c6?sa=X&amp\;ved=1t:8290&amp\;ictx=111\n
URL:https://aabenraagruppe.dk/begivenhed/juniordivisionsturnering-0
DTSTART:20260424T150000Z
DTEND:20260426T101500Z
LOCATION:Aabenraa Gruppe\, Lindehave 7\, 6200 Aabenraa
END:VEVENT
BEGIN:VEVENT
UID:gruppeweb.dk:5216:event:214
DTSTAMP:20260423T145607Z
LAST-MODIFIED:20260419T131759Z
SUMMARY:Minidivi
DESCRIPTION:Vi skal ud på eventyr 😁 \n\nMini-erne skal bringe\n\n * Un
 iform og halstørklæde \n   \n * Drikkedunk og krus\n   \n\nMille vil ge
 rne køre\, men vi mangler endnu en bil\, så hvis du kan køre os\,  \ns
 å må du gerne kontakte spejderleder Mads. \n\n
URL:https://aabenraagruppe.dk/begivenhed/minidivi
DTSTART:20260425T130200Z
DTEND:20260425T130200Z
LOCATION:Kelstrup naturskole\, Stokkebrovej 1B\, 6340 Kruså
END:VEVENT
BEGIN:VEVENT
UID:gruppeweb.dk:5216:event:215
DTSTAMP:20260423T145607Z
LAST-MODIFIED:20260421T172511Z
SUMMARY:Spejderdag 2026
DESCRIPTION:Spejderdag er en dag som er åben for alle uanset om man allere
 de er spejder  \neller ej - så tag en ven der måske ikke er spejder unde
 r armen og kom og  \nvær med til en super hyggelig eftermiddag fuld af sp
 ejderi. 🔥\n\n\nVi mødes på *Sønderstrand i Aabenraa fra kl. 13-15*\,
  hvor vi skal lære og  \nhave det sjovt med spejderaktiviteter på land o
 g på vand.\n\n \n\nAlle aldersgrupper er velkomne! og man må gerne tage
  sine forældre eller  \nandre yndlingsvoksne med.\n\n\nHvis du kender en 
 der gerne vil med men som endnu ikke er spejder\, kan  \nvedkommende melde
  sig til her 👉  \nhttps://aabenraagruppe.dk/kampagne/spejderdag\n\n
URL:https://aabenraagruppe.dk/begivenhed/spejderdag-2026
DTSTART:20260510T110000Z
DTEND:20260510T130000Z
LOCATION:Aabenraa Gruppe\, Lindehave 7\, 6200 Aabenraa
END:VEVENT
BEGIN:VEVENT
UID:gruppeweb.dk:5216:event:206
DTSTAMP:20260423T145607Z
LAST-MODIFIED:20260127T182600Z
SUMMARY:Spejdernes Lejr 2026
DESCRIPTION:Spejdernes Lejr 2026 bliver en kæmpe oplevelse for den enkelte
  spejder\, som  \nvil kunne huskes mange år frem. Vi kommer til at bo sam
 men med alle de andre  \nspejdere fra Aabenraa kommune både grønne\, bl
 å\, og alt der i mellem\, så  \nder er god basis for at starte nye vensk
 aber.\nFor junior og trop er lejren fra . 18/7-22/7 –pris 1940\,-For mik
 ro og mini  \ner lejren fra d. 22/7-24/7 –pris 550\,-Prisen dækker alle
  spejdernes  \nudgifter på turen til mad\, transport\, aktiviteter og lej
 rmærke.\nHvis prisen er mere end dit budget kan klare\, så sig til\, så
  kan der vær  \nmuligheder for at få støtte.\nNøjagtig afgang og ankom
 st er endnu ukendt\, men bliver fælles bus til/fra  \net centralt sted i 
 Aabenraa/Rødekro.\nLejren kommer til at være kontantløs\, så alle delt
 agere udstyres med en  \nchip løsning\, som mor og far kan sende flere pe
 nge til hjemme fra. Mere om  \ndet senere.\nHvis far eller mor også gerne
  vil på lejr\, så er der stadig plads til  \nfrivillige\, se mere på: h
 ttps://spejderneslejr.dk/bliv-frivillig/For de  \nmindste er der mulighed 
 for pasning/spejderbørnehave\, så dette skulle ikke  \nvære en hindring
 .\nSom forældre/bedsteforældre er det muligt at komme forbi på besøgsd
 agen\,  \nnøjagtigt hvornår og hvordan kommer der information om senere.
 \nFølg med på hjemmesiden https://spejderneslejr.dk/ og Facebook (Spejde
 rnes  \nLejr) hvor der løbende kommer ny information.\nBindende tilmeldin
 g på senest d. 20/2.\nYderlige spørgsmål rettes til jeres ledere.Mvh. L
 ederne i Aabenraa gruppe.\n
URL:https://aabenraagruppe.dk/begivenhed/spejdernes-lejr-2026
DTSTART;VALUE=DATE:20260718
DTEND;VALUE=DATE:20260727
LOCATION:Hedeland naturpark\, Tranemosevej 2\, 2640 Hedehusene
END:VEVENT
END:VCALENDAR
